BEGIN:VCALENDAR
VERSION:2.0
PRODID:-//Consortium Erasmus+ Scol DDEC29 - ECPv6.15.11//NONSGML v1.0//EN
CALSCALE:GREGORIAN
METHOD:PUBLISH
X-WR-CALNAME:Consortium Erasmus+ Scol DDEC29
X-ORIGINAL-URL:http://ec29erasmus.fr
X-WR-CALDESC:Évènements pour Consortium Erasmus+ Scol DDEC29
REFRESH-INTERVAL;VALUE=DURATION:PT1H
X-Robots-Tag:noindex
X-PUBLISHED-TTL:PT1H
BEGIN:VTIMEZONE
TZID:Europe/Paris
BEGIN:DAYLIGHT
TZOFFSETFROM:+0100
TZOFFSETTO:+0200
TZNAME:CEST
DTSTART:20240331T010000
END:DAYLIGHT
BEGIN:STANDARD
TZOFFSETFROM:+0200
TZOFFSETTO:+0100
TZNAME:CET
DTSTART:20241027T010000
END:STANDARD
BEGIN:DAYLIGHT
TZOFFSETFROM:+0100
TZOFFSETTO:+0200
TZNAME:CEST
DTSTART:20250330T010000
END:DAYLIGHT
BEGIN:STANDARD
TZOFFSETFROM:+0200
TZOFFSETTO:+0100
TZNAME:CET
DTSTART:20251026T010000
END:STANDARD
BEGIN:DAYLIGHT
TZOFFSETFROM:+0100
TZOFFSETTO:+0200
TZNAME:CEST
DTSTART:20260329T010000
END:DAYLIGHT
BEGIN:STANDARD
TZOFFSETFROM:+0200
TZOFFSETTO:+0100
TZNAME:CET
DTSTART:20261025T010000
END:STANDARD
END:VTIMEZONE
BEGIN:VEVENT
DTSTART;TZID=Europe/Paris:20250430T080000
DTEND;TZID=Europe/Paris:20250430T170000
DTSTAMP:20260426T022132
CREATED:20241025T075411Z
LAST-MODIFIED:20250320T154737Z
UID:3699-1746000000-1746032400@ec29erasmus.fr
SUMMARY:Grand Séminaire Erasmus 2024-2025
DESCRIPTION:Notre prochain grand séminaire Erasmus + se déroulera le 30 avril 2025 à l’établissement Saint-Louis de Châteaulin de 9h à 17h.
URL:http://ec29erasmus.fr/event/grand-seminaire-erasmus-2024-2025/
END:VEVENT
END:VCALENDAR